BEGIN:VCALENDAR
VERSION:2.0
PRODID:-//Family Dialograum - ECPv5.0.0.2//NONSGML v1.0//EN
CALSCALE:GREGORIAN
METHOD:PUBLISH
X-WR-CALNAME:Family Dialograum
X-ORIGINAL-URL:https://family-dialograum.de
X-WR-CALDESC:Veranstaltungen im Family Dialograum
BEGIN:VTIMEZONE
TZID:Europe/Berlin
BEGIN:DAYLIGHT
TZOFFSETFROM:+0100
TZOFFSETTO:+0200
TZNAME:CEST
DTSTART:20200329T010000
END:DAYLIGHT
BEGIN:STANDARD
TZOFFSETFROM:+0200
TZOFFSETTO:+0100
TZNAME:CET
DTSTART:20201025T010000
END:STANDARD
END:VTIMEZONE
BEGIN:VEVENT
DTSTART;TZID=Europe/Berlin:20200123T200000
DTEND;TZID=Europe/Berlin:20200123T220000
DTSTAMP:20260421T091056
CREATED:20191227T124803Z
LAST-MODIFIED:20191227T124803Z
UID:376-1579809600-1579816800@family-dialograum.de
SUMMARY:Die 4 Werte von Jesper Juul
DESCRIPTION:Inhalt/Beschreibung : \nWelche Werte sind das\, wie können wir diese verstehen und mehr integrieren?  \nInput und Reflexion. \nKontakt: \nAnmeldung und nähere Informationen bei: info@family-dialograum.de \nKosten: Der familylab-Vortrag/das familylab-Seminar kostet: 20 € Pro Person\, Paare: 35 € \n
URL:https://family-dialograum.de/event/die-4-werte-von-jesper-juul/
LOCATION:Froschkönig\, Eckenheimer Landstr 461\, Frankfurt / Main\, 60435\, Deutschland
CATEGORIES:familylab Seminar,Seminar
ORGANIZER;CN="Aud%20Tauber":MAILTO:info@family-dialograum.de
END:VEVENT
END:VCALENDAR